BEGIN:VCALENDAR
VERSION:2.0
PRODID:-//UDC Ticino //NONSGML Events //EN
CALSCALE:GREGORIAN
X-WR-CALNAME:UDC Ticino
BEGIN:VEVENT
CREATED:20211123T143135Z
UID:11375
DTEND:20220515T000000
DTSTART:20220515T000000
DTSTAMP:20260422T021514Z
LOCATION:
DESCRIPTION:
SUMMARY:Votazione federale
ORGANIZER:
URL;VALUE=URI:https://udc-ti.ch/eventi/votazione-federale-2/
TRANSP:OPAQUE
END:VEVENT
END:VCALENDAR
