BEGIN:VCALENDAR
VERSION:2.0
PRODID:-//UDC Ticino //NONSGML Events //EN
CALSCALE:GREGORIAN
X-WR-CALNAME:UDC Ticino
BEGIN:VEVENT
CREATED:20230103T075454Z
UID:11697
DTEND:20230211T170000
DTSTART:20230211T150000
DTSTAMP:20260420T100313Z
LOCATION:Piazza Dante\, Lugano
DESCRIPTION:Raclette e vino offerti!
SUMMARY:UDC tra la Gente &#8211\; Lugano
ORGANIZER:UDC Ticino
URL;VALUE=URI:https://udc-ti.ch/eventi/udc-tra-la-gente-lugano/
TRANSP:OPAQUE
END:VEVENT
END:VCALENDAR
