BEGIN:VCALENDAR
VERSION:2.0
PRODID:-//UDC Ticino //NONSGML Events //EN
CALSCALE:GREGORIAN
X-WR-CALNAME:UDC Ticino
BEGIN:VEVENT
CREATED:20230829T164019Z
UID:12367
DTEND:20231006T210000
DTSTART:20231006T183000
DTSTAMP:20260420T175751Z
LOCATION:Bar Cento\, Lugano
DESCRIPTION:
SUMMARY:Aperitivo elettorale
ORGANIZER:UDC Ticino
URL;VALUE=URI:https://udc-ti.ch/eventi/aperitivo-elettorale/
TRANSP:OPAQUE
END:VEVENT
END:VCALENDAR
