BEGIN:VCALENDAR
VERSION:2.0
PRODID:-//UDC Ticino //NONSGML Events //EN
CALSCALE:GREGORIAN
X-WR-CALNAME:UDC Ticino
BEGIN:VEVENT
CREATED:20240408T182508Z
UID:12827
DTEND:20240414T160000
DTSTART:20240414T150000
DTSTAMP:20260421T113547Z
LOCATION:Viganello
DESCRIPTION:dalle ore 15 al Bar Ul Nin da San Sir a Viganello (Via al Campanile 1)
SUMMARY:Lugano: aspettando i risultati insieme Bar Ul Nin da San Sir\, Viganello
ORGANIZER:UDC Lugano
URL;VALUE=URI:https://udc-ti.ch/eventi/lugano-aspettando-i-risultati/
TRANSP:OPAQUE
END:VEVENT
END:VCALENDAR
