BEGIN:VCALENDAR
VERSION:2.0
PRODID:-//UDC Ticino //NONSGML Events //EN
CALSCALE:GREGORIAN
X-WR-CALNAME:UDC Ticino
BEGIN:VEVENT
CREATED:20250516T122129Z
UID:13201
DTEND:20250521T210000
DTSTART:20250521T203000
DTSTAMP:20260421T151837Z
LOCATION:Lugano - Palazzo dei Congressi Sala E
DESCRIPTION:
SUMMARY:Comitato cantonale UDC
ORGANIZER:
URL;VALUE=URI:https://udc-ti.ch/eventi/comitato-cantonale-udc-2/
TRANSP:OPAQUE
END:VEVENT
END:VCALENDAR
