BEGIN:VCALENDAR
VERSION:2.0
PRODID:-//UDC Ticino //NONSGML Events //EN
CALSCALE:GREGORIAN
X-WR-CALNAME:UDC Ticino
BEGIN:VEVENT
CREATED:20250620T080907Z
UID:13271
DTEND:20250801T150000
DTSTART:20250801T110000
DTSTAMP:20260421T121707Z
LOCATION:Scuderia al Piano Giubiasco
DESCRIPTION:
SUMMARY:Natale della Patria 2025
ORGANIZER:
URL;VALUE=URI:https://udc-ti.ch/eventi/natale-della-patria-2025/
TRANSP:OPAQUE
END:VEVENT
END:VCALENDAR
