BEGIN:VCALENDAR
VERSION:2.0
PRODID:-//UDC Ticino //NONSGML Events //EN
CALSCALE:GREGORIAN
X-WR-CALNAME:UDC Ticino
BEGIN:VEVENT
CREATED:20250905T095551Z
UID:13374
DTEND:20251130T000000
DTSTART:20251130T000000
DTSTAMP:20260421T100035Z
LOCATION:Berna
DESCRIPTION:
SUMMARY:Votazione federale
ORGANIZER:
URL;VALUE=URI:https://udc-ti.ch/eventi/votazione-federale-4/
TRANSP:OPAQUE
END:VEVENT
END:VCALENDAR
