BEGIN:VCALENDAR
VERSION:2.0
PRODID:-//UDC Ticino //NONSGML Events //EN
CALSCALE:GREGORIAN
X-WR-CALNAME:UDC Ticino
BEGIN:VEVENT
CREATED:20260202T154926Z
UID:13653
DTEND:20260213T223000
DTSTART:20260213T183000
DTSTAMP:20260422T180459Z
LOCATION:Yoyo centro sportivo\, Biasca
DESCRIPTION:
SUMMARY:No al trattato di sottomissione all&#8217\;UE &#8211\; Serata pubblica
ORGANIZER:UDC Ticino
URL;VALUE=URI:https://udc-ti.ch/eventi/no-al-trattato-di-sottomissione-allue-serata-pubblica/
TRANSP:OPAQUE
END:VEVENT
END:VCALENDAR
