BEGIN:VCALENDAR
VERSION:2.0
PRODID:-//UDC Ticino //NONSGML Events //EN
CALSCALE:GREGORIAN
X-WR-CALNAME:UDC Ticino
BEGIN:VEVENT
CREATED:20260422T054945Z
UID:13749
DTEND:20260428T220000
DTSTART:20260428T203000
DTSTAMP:20260422T144316Z
LOCATION:Web
DESCRIPTION:
SUMMARY:Webinar online &#8220\;No a una Svizzera da 10 milioni&#8221\;
ORGANIZER:
URL;VALUE=URI:https://udc-ti.ch/eventi/webinar-online-no-a-una-svizzera-da-10-milioni/
TRANSP:OPAQUE
END:VEVENT
END:VCALENDAR
