BEGIN:VCALENDAR
VERSION:2.0
PRODID:-//UDC Ticino //NONSGML Events //EN
CALSCALE:GREGORIAN
X-WR-CALNAME:UDC Ticino
BEGIN:VEVENT
CREATED:20260422T055706Z
UID:13753
DTEND:20260505T220000
DTSTART:20260505T203000
DTSTAMP:20260422T162810Z
LOCATION:Hotel Unione Bellinzona
DESCRIPTION:
SUMMARY:Dibattito &#8220\;No a una Svizzera da 10 milioni&#8221\; (Iniziativa per la sostenibilità)
ORGANIZER:
URL;VALUE=URI:https://udc-ti.ch/eventi/dibattito-no-a-una-svizzera-da-10-milioni-iniziativa-per-la-sostenibilita/
TRANSP:OPAQUE
END:VEVENT
END:VCALENDAR
